BEGIN:VCALENDAR
VERSION:2.0
PRODID:-//ICS Generator//NONSGML ICS Generator//DE
BEGIN:VEVENT
UID:1776242932699-qd1rn4h?@ics-generator.de
DTSTAMP:20260415T084852Z
DTSTART:20260610T183000
DTEND:20260610T210000
SUMMARY:Praxis & Klinik Symposium Frankfurt 2026: Sommermeeting Kardiologie
DESCRIPTION:Titel der Veranstaltung: Praxis & Klinik Symposium Frankfurt 2026<p>Datum: 10. Juni 2026<p>Ort: Frankfurt<p>Link zur Website: https://veranstaltungen.boehringer-interaktiv.de/veranstaltungen/praxis-klinik-symposium-2026/frankfurt-juni.htm
LOCATION:Frankfurt Marriott Hotel Hamburger Allee
BEGIN:VALARM
ACTION:DISPLAY
TRIGGER:-PT10080M
DESCRIPTION:Reminder
END:VALARM
END:VEVENT
END:VCALENDAR
 