BEGIN:VCALENDAR
VERSION:2.0
PRODID:-//ICS Generator//NONSGML ICS Generator//DE
BEGIN:VEVENT
UID:1776242932699-qd1rn4h?@ics-generator.de
DTSTAMP:20260415T091800Z
DTSTART:20261031T091500
DTEND:20261031T130000
SUMMARY:Praxis & Klinik Symposium Mainz 2026: Mainzer Kardiologie Update 2026
DESCRIPTION:Titel der Veranstaltung: Praxis & Klinik Symposium Mainz 2026<p>Datum: 31. Oktober 2026<p>Ort: Mainz<p>Link zur Website: https://veranstaltungen.boehringer-interaktiv.de/veranstaltungen/praxis-klinik-symposium-2026/mainz-oktober.htm
LOCATION:Hilton Mainz
BEGIN:VALARM
ACTION:DISPLAY
TRIGGER:-PT10080M
DESCRIPTION:Reminder
END:VALARM
END:VEVENT
END:VCALENDAR
 